BEGIN:VCALENDAR
VERSION:2.0
PRODID:-//Hispania Nostra - ECPv6.14.2//NONSGML v1.0//EN
CALSCALE:GREGORIAN
METHOD:PUBLISH
X-WR-CALNAME:Hispania Nostra
X-ORIGINAL-URL:https://www.hispanianostra.org
X-WR-CALDESC:Eventos para Hispania Nostra
REFRESH-INTERVAL;VALUE=DURATION:PT1H
X-Robots-Tag:noindex
X-PUBLISHED-TTL:PT1H
BEGIN:VTIMEZONE
TZID:Europe/Madrid
BEGIN:DAYLIGHT
TZOFFSETFROM:+0100
TZOFFSETTO:+0200
TZNAME:CEST
DTSTART:20260329T010000
END:DAYLIGHT
BEGIN:STANDARD
TZOFFSETFROM:+0200
TZOFFSETTO:+0100
TZNAME:CET
DTSTART:20261025T010000
END:STANDARD
END:VTIMEZONE
BEGIN:VEVENT
DTSTART;TZID=Europe/Madrid:20260422T080000
DTEND;TZID=Europe/Madrid:20260424T190000
DTSTAMP:20260422T122337
CREATED:20260226T150820Z
LAST-MODIFIED:20260417T120639Z
UID:10000091-1776844800-1777057200@www.hispanianostra.org
SUMMARY:Jornada 50 aniversario Hispania Nostra “Patrimonio\, identidades y territorio”.
DESCRIPTION:El patrimonio\, la cultura y el territorio conforman en Asturias un ecosistema interdependiente que articula su identidad y memoria histórica.\nJunto a bienes culturales tan significativos como el prerrománico asturiano\, o las cuevas prehistóricas\, emergen expresiones y tradiciones inmateriales como la cultura sidrera\, la cultura minera\, la lengua asturiana\, las tradiciones orales\, la gaita\, el hórreo\, la mitología popular\, o las festividades locales\, actuando como ejes de cohesión social. Su territorio\, organizado espacialmente en concejos y parroquias rurales\, sus valles\, las reservas de la biosfera o los espacios naturales que alberga\, no son solo un mero soporte de bienes de interés\, cultural y natural\, en diálogo directo\, sino un agente configurador de modos de vida\, de interacción histórica entre comunidad y paisaje. Un conjunto dinámico de elementos patrimoniales\, significados\, prácticas y representaciones que la sociedad asturiana produce y transmite y que no pueden entenderse al margen del medio físico que las sustenta. \nPatrimonio\, cultura\, territorio comparten en definitiva en Asturias una base común: la construcción histórica de identidad colectiva a partir de la interacción entre sociedad y espacio.\nAproximarse a su conocimiento y disfrute es el objeto de estas Jornadas. El territorio provee recursos y condiciona formas de vida; la cultura interpreta y simboliza esa experiencia; y el patrimonio preserva y legitima dichas expresiones para su transmisión intergeneracional. Se trata de categorías inseparables que\, en el contexto asturiano\, configuran una realidad compleja donde naturaleza e historia convergen en la definición de lo propio. \nCon la subvención del  \n  \ny la colaboración de:               \n  \nPROGRAMA\nInscripciones hasta el viernes 17 de abril a las 13.00 horas. \nMiércoles 22: Patrimonio InmaterialJueves 23: Cultura mineraViernes 24: Cultura\, espacio\, memoria\nSede: Aula Magna de la Universidad de Oviedo\n09.30: Registro de inscritos \n10.00: Inauguración \n\nÁngel Ignacio Villaverde Menéndez. Rector de la Universidad de Oviedo.\nNacho Cuesta. Concejal de Infraestructuras y Planeamiento del Ayuntamiento de Oviedo\nAraceli Pereda Alonso. Presidenta de la Asociación Hispania Nostra\nAna Vanesa Gutiérrez González. Consejera de Cultura\, Política Llingüística y Deporte del Principado de Asturias\n\n10.30:Conferencia: \nMaría Pía Timón Tiemblo. Etnóloga. Premio Nacional de Restauración y Conservación de Bienes Culturales 2021. \n11.00: Experiencias \nModera: Ramón Rodríguez Álvarez. Director del Real Instituto de Estudios Asturianos (RIDEA). \nParticipan: \n\nLuis Benito García Álvarez. Director de la Cátedra de la Sidra de Asturias-Universidad de Oviedo\nFernando Mora Rodríguez. Arqueólogo /Asociación del Hórreo Asturiano\nYolanda Cerra Bada. Presidenta de la Asociación Asturiana de Antropología y Patrimonio Etnológico (ASAPE).\nEnriqueta de Valdés Cavanilles. Directora gerente de la Fundación José Cardín Fernández\n\n12.30: Traslado en autobús a San Julián de los Prados. Visita y actuación musical “Cantvs Asturicum”. \n13.30: Traslado en autobús al Palacio de Meres. Punto de salida del autobús: Calle Argüelles \n\nAlmuerzo con degustación de productos asturianos.\nPresentación del libro 50 años de Hispania Nostra por Araceli Pereda\, presidenta de Hispania Nostra.\nActuación musical “Capilla Musical Palacio de Meres»\n\n17.30: Regreso a Oviedo \n\n\n\n\n\nSede: Pozu Sotón (Linares\, San Martín del Rey Aurelio)\n10.00: Traslado desde Oviedo a la antigua Casa de Aseos del Pozo Sotón (San Martín del Rey Aurelio). Punto de salida del autobús: Calle Conde de Toreno \n11.00: Conferencia: \nJorge Muñiz Sánchez. Director de la Cátedra de la Cultura Minera. \n11.30: Conferencia: \nEstefanía Sánchez Hidalgo. Jefa de la Unidad de Documentación y Difusión\, Servicio de Conservación del Patrimonio\, Consejería de Cultura\, Política Lingüística y Deporte. \n12.00: Experiencias: \nModera: Rubén Vega García. Profesor de Historia Contemporánea – Universidad de Oviedo. \nParticipan: \n\nJavier Fernández López. Director del Museo del Ferrocarril de Asturias. \nMaría Fernanda Fernández Gutiérrez. Historiadora del arte y guía oficial de Turismo. Pozu Espinos. Consultoría y Gestión Cultural S.L.\nMarcos Martínez Merino. Director de patrimoniuindustrial.com.\nGuillermo Bas Ordoñez. Asociación Cultural y Minera Santa Bárbara.\n\n13.00: Visita al Pozo Sotón \n13.30: Almuerzo. \n14.30: Traslado en autobús y visita guiada al Poblado Minero de Bustiello (Mieres). \n17.00: Regreso a Oviedo \n  \n\n\nSede: Paraninfo. Universidad Laboral de Gijón (Los Prados\, 121 Periurbano – Rural 33203 Gijón)\n10.00: Traslado desde Oviedo a la sede. Punto de salida del autobús: Calle Conde de Toreno \n11.00: Conferencia: \nMargarita Fernández de Mier. Catedrática Historia Medieval Universidad de Oviedo. \n11.30: Experiencias \nModera: Obdulia Fernández Álvarez. Presidenta de Paisajes de Asturias y Cofundadora de Vestige Collection. \nParticipan: \n\nMaría Fernández Parrado. Técnica de programas. Red Municipal de Museos de Gijón/Xixón. Fundación Municipal de Cultura\, Educación y Universidad Popular del Ayuntamiento de Gijón/Xixón.\nAngel Villa Valdés. Arqueólogo. Museo Arqueológico de Asturias.\nLeopoldo Tolivar Alas. Presidente de la Fundación Valdés- Salas. \nAna Sofía González Sandoval. Investigadora y coordinadora del Plan de Patrimonio Cultural del Centro de investigación y ecomuseo La Ponte.\nJavier Gallego. Presidente de la asociación cultural del bote de vela de Castropol.\n\n12.45: Clausura de las jornadas. \n13.00: Visita guiada a la Universidad Laboral \n14.00: almuerzo en la sala de pinturas. \n15.30: Traslado en autobús y visita guiada al Jardín Botánico de Gijón \n18.00: Regreso a Oviedo. \n  \n\nLo siento.  Este formulario ya no está disponible. \n  \n 
URL:https://www.hispanianostra.org/evento/jornada-50-aniversario-hispania-nostra-patrimonio-identidades-y-territorio/
LOCATION:Aula Magna de la Universidad de Oviedo\, C/ San Francisco\, 3\, Oviedo\, Asturias\, 33003\, España
CATEGORIES:50 Aniversario,Congresos y conferencias de HN,Jornadas
ATTACH;FMTTYPE=image/png:https://www.hispanianostra.org/wp-content/uploads/2026/03/IMAGEN-ASTURIAS-e1773917215906.png
ORGANIZER;CN="Hispania Nostra":MAILTO:secretaria@hispanianostra.org
END:VEVENT
BEGIN:VEVENT
DTSTART;TZID=Europe/Madrid:20260422T190000
DTEND;TZID=Europe/Madrid:20260422T203000
DTSTAMP:20260422T122337
CREATED:20260407T133551Z
LAST-MODIFIED:20260415T084306Z
UID:10000103-1776884400-1776889800@www.hispanianostra.org
SUMMARY:50 años en la protección del Patrimonio Cultural. Hispania Nostra en Cantabria
DESCRIPTION:El 22 de abril a las 19h tendrá lugar en el Ateneo de Santander un mesa redonda para dar a conocer el papel de Hispania Nostra a lo largo de su historia. \n¡Resérvate la fecha!
URL:https://www.hispanianostra.org/evento/50-anos-en-la-proteccion-del-patrimonio-cultural-hispania-nostra-en-cantabria/
LOCATION:Ateneo de Santander\, Calle Gómez Oreña\, 5\, Santander\, Cantabria\, 39003\, España
CATEGORIES:50 Aniversario
ATTACH;FMTTYPE=image/jpeg:https://www.hispanianostra.org/wp-content/uploads/2026/04/Santander.jpg
ORGANIZER;CN="Hispania Nostra":MAILTO:secretaria@hispanianostra.org
END:VEVENT
END:VCALENDAR