BEGIN:VCALENDAR
VERSION:2.0
PRODID:-//Hispania Nostra - ECPv6.14.2//NONSGML v1.0//EN
CALSCALE:GREGORIAN
METHOD:PUBLISH
X-ORIGINAL-URL:https://www.hispanianostra.org
X-WR-CALDESC:Eventos para Hispania Nostra
REFRESH-INTERVAL;VALUE=DURATION:PT1H
X-Robots-Tag:noindex
X-PUBLISHED-TTL:PT1H
BEGIN:VTIMEZONE
TZID:Europe/Madrid
BEGIN:DAYLIGHT
TZOFFSETFROM:+0100
TZOFFSETTO:+0200
TZNAME:CEST
DTSTART:20260329T010000
END:DAYLIGHT
BEGIN:STANDARD
TZOFFSETFROM:+0200
TZOFFSETTO:+0100
TZNAME:CET
DTSTART:20261025T010000
END:STANDARD
END:VTIMEZONE
BEGIN:VEVENT
DTSTART;TZID=Europe/Madrid:20261001T090000
DTEND;TZID=Europe/Madrid:20261004T180000
DTSTAMP:20260423T115448
CREATED:20260320T120543Z
LAST-MODIFIED:20260320T124432Z
UID:10000099-1790845200-1791136800@www.hispanianostra.org
SUMMARY:45 Foro de Asociaciones y Gestores Culturales
DESCRIPTION:Resérvate las fechas del 1 al 4 de octubre en las que tendrá lugar el 45 Foro de Asociaciones y Gestores Culturales en la ciudad de Valencia. \nPronto más información. \n 
URL:https://www.hispanianostra.org/evento/45-foro-de-asociaciones-50-aniversario-participacion-ciudadana/
LOCATION:Centro del Carmen\, C/ del Museu\, 2\, 4\, Valencia\, España
CATEGORIES:50 Aniversario
ATTACH;FMTTYPE=image/jpeg:https://www.hispanianostra.org/wp-content/uploads/2026/03/Foro-Valencia-002recortada.jpg
ORGANIZER;CN="Hispania Nostra":MAILTO:secretaria@hispanianostra.org
END:VEVENT
END:VCALENDAR